BEGIN:VCALENDAR
VERSION:2.0
PRODID:-//Groupe On a du cœur - ECPv6.15.17.1//NONSGML v1.0//EN
CALSCALE:GREGORIAN
METHOD:PUBLISH
X-WR-CALNAME:Groupe On a du cœur
X-ORIGINAL-URL:https://onaducoeur.avivecommunication.com
X-WR-CALDESC:Évènements pour Groupe On a du cœur
REFRESH-INTERVAL;VALUE=DURATION:PT1H
X-Robots-Tag:noindex
X-PUBLISHED-TTL:PT1H
BEGIN:VTIMEZONE
TZID:America/Toronto
BEGIN:DAYLIGHT
TZOFFSETFROM:-0500
TZOFFSETTO:-0400
TZNAME:EDT
DTSTART:20250309T070000
END:DAYLIGHT
BEGIN:STANDARD
TZOFFSETFROM:-0400
TZOFFSETTO:-0500
TZNAME:EST
DTSTART:20251102T060000
END:STANDARD
BEGIN:DAYLIGHT
TZOFFSETFROM:-0500
TZOFFSETTO:-0400
TZNAME:EDT
DTSTART:20260308T070000
END:DAYLIGHT
BEGIN:STANDARD
TZOFFSETFROM:-0400
TZOFFSETTO:-0500
TZNAME:EST
DTSTART:20261101T060000
END:STANDARD
BEGIN:DAYLIGHT
TZOFFSETFROM:-0500
TZOFFSETTO:-0400
TZNAME:EDT
DTSTART:20270314T070000
END:DAYLIGHT
BEGIN:STANDARD
TZOFFSETFROM:-0400
TZOFFSETTO:-0500
TZNAME:EST
DTSTART:20271107T060000
END:STANDARD
END:VTIMEZONE
BEGIN:VEVENT
DTSTART;TZID=America/Toronto:20260415T190000
DTEND;TZID=America/Toronto:20260415T200000
DTSTAMP:20260421T054839
CREATED:20260125T141818Z
LAST-MODIFIED:20260317T183108Z
UID:10000892-1776279600-1776283200@onaducoeur.avivecommunication.com
SUMMARY:Zumba
DESCRIPTION:Dans ce cours\, on oublie les efforts et on vibre sur les rythmes de la musique latino-américaine et des musiques du monde pour retrouver la forme! La Zumba® est un entraînement complet alliant tous les éléments de la remise en forme : cardio et préparation musculaire\, équilibre et flexibilité. Un regain d’énergie et un bien-être absolu après chaque session! Des exercices sans « contraintes »\, en mêlant des mouvements qui vous permettent de rester en forme et de garder la ligne dans un esprit festif. \nREQUIS : Espadrilles \nCOÛT : 70 $
URL:https://onaducoeur.avivecommunication.com/cours/zumba-6/2026-04-15/
LOCATION:École de Maricourt\, 3675\, rue Coderre\, St-Hubert\, Québec\, J3Y 4P4\, Canada
CATEGORIES:Zumba
ATTACH;FMTTYPE=image/png:https://onaducoeur.avivecommunication.com/wp-content/uploads/2026/01/GroupeOnaducoeur_zumba3.png
END:VEVENT
BEGIN:VEVENT
DTSTART;TZID=America/Toronto:20260408T190000
DTEND;TZID=America/Toronto:20260408T200000
DTSTAMP:20260421T054839
CREATED:20260125T141818Z
LAST-MODIFIED:20260317T183108Z
UID:10000891-1775674800-1775678400@onaducoeur.avivecommunication.com
SUMMARY:Zumba
DESCRIPTION:Dans ce cours\, on oublie les efforts et on vibre sur les rythmes de la musique latino-américaine et des musiques du monde pour retrouver la forme! La Zumba® est un entraînement complet alliant tous les éléments de la remise en forme : cardio et préparation musculaire\, équilibre et flexibilité. Un regain d’énergie et un bien-être absolu après chaque session! Des exercices sans « contraintes »\, en mêlant des mouvements qui vous permettent de rester en forme et de garder la ligne dans un esprit festif. \nREQUIS : Espadrilles \nCOÛT : 70 $
URL:https://onaducoeur.avivecommunication.com/cours/zumba-6/2026-04-08/
LOCATION:École de Maricourt\, 3675\, rue Coderre\, St-Hubert\, Québec\, J3Y 4P4\, Canada
CATEGORIES:Zumba
ATTACH;FMTTYPE=image/png:https://onaducoeur.avivecommunication.com/wp-content/uploads/2026/01/GroupeOnaducoeur_zumba3.png
END:VEVENT
BEGIN:VEVENT
DTSTART;TZID=America/Toronto:20260401T190000
DTEND;TZID=America/Toronto:20260401T200000
DTSTAMP:20260421T054839
CREATED:20260125T141818Z
LAST-MODIFIED:20260317T183108Z
UID:10000890-1775070000-1775073600@onaducoeur.avivecommunication.com
SUMMARY:Zumba
DESCRIPTION:Dans ce cours\, on oublie les efforts et on vibre sur les rythmes de la musique latino-américaine et des musiques du monde pour retrouver la forme! La Zumba® est un entraînement complet alliant tous les éléments de la remise en forme : cardio et préparation musculaire\, équilibre et flexibilité. Un regain d’énergie et un bien-être absolu après chaque session! Des exercices sans « contraintes »\, en mêlant des mouvements qui vous permettent de rester en forme et de garder la ligne dans un esprit festif. \nREQUIS : Espadrilles \nCOÛT : 70 $
URL:https://onaducoeur.avivecommunication.com/cours/zumba-6/2026-04-01/
LOCATION:École de Maricourt\, 3675\, rue Coderre\, St-Hubert\, Québec\, J3Y 4P4\, Canada
CATEGORIES:Zumba
ATTACH;FMTTYPE=image/png:https://onaducoeur.avivecommunication.com/wp-content/uploads/2026/01/GroupeOnaducoeur_zumba3.png
END:VEVENT
BEGIN:VEVENT
DTSTART;TZID=America/Toronto:20260325T190000
DTEND;TZID=America/Toronto:20260325T200000
DTSTAMP:20260421T054839
CREATED:20260125T141818Z
LAST-MODIFIED:20260317T183108Z
UID:10000889-1774465200-1774468800@onaducoeur.avivecommunication.com
SUMMARY:Zumba
DESCRIPTION:Dans ce cours\, on oublie les efforts et on vibre sur les rythmes de la musique latino-américaine et des musiques du monde pour retrouver la forme! La Zumba® est un entraînement complet alliant tous les éléments de la remise en forme : cardio et préparation musculaire\, équilibre et flexibilité. Un regain d’énergie et un bien-être absolu après chaque session! Des exercices sans « contraintes »\, en mêlant des mouvements qui vous permettent de rester en forme et de garder la ligne dans un esprit festif. \nREQUIS : Espadrilles \nCOÛT : 70 $
URL:https://onaducoeur.avivecommunication.com/cours/zumba-6/2026-03-25/
LOCATION:École de Maricourt\, 3675\, rue Coderre\, St-Hubert\, Québec\, J3Y 4P4\, Canada
CATEGORIES:Zumba
ATTACH;FMTTYPE=image/png:https://onaducoeur.avivecommunication.com/wp-content/uploads/2026/01/GroupeOnaducoeur_zumba3.png
END:VEVENT
BEGIN:VEVENT
DTSTART;TZID=America/Toronto:20260318T190000
DTEND;TZID=America/Toronto:20260318T200000
DTSTAMP:20260421T054839
CREATED:20260125T141818Z
LAST-MODIFIED:20260317T183108Z
UID:10000888-1773860400-1773864000@onaducoeur.avivecommunication.com
SUMMARY:Zumba
DESCRIPTION:Dans ce cours\, on oublie les efforts et on vibre sur les rythmes de la musique latino-américaine et des musiques du monde pour retrouver la forme! La Zumba® est un entraînement complet alliant tous les éléments de la remise en forme : cardio et préparation musculaire\, équilibre et flexibilité. Un regain d’énergie et un bien-être absolu après chaque session! Des exercices sans « contraintes »\, en mêlant des mouvements qui vous permettent de rester en forme et de garder la ligne dans un esprit festif. \nREQUIS : Espadrilles \nCOÛT : 70 $
URL:https://onaducoeur.avivecommunication.com/cours/zumba-6/2026-03-18/
LOCATION:École de Maricourt\, 3675\, rue Coderre\, St-Hubert\, Québec\, J3Y 4P4\, Canada
CATEGORIES:Zumba
ATTACH;FMTTYPE=image/png:https://onaducoeur.avivecommunication.com/wp-content/uploads/2026/01/GroupeOnaducoeur_zumba3.png
END:VEVENT
BEGIN:VEVENT
DTSTART;TZID=America/Toronto:20260311T190000
DTEND;TZID=America/Toronto:20260311T200000
DTSTAMP:20260421T054839
CREATED:20260125T141818Z
LAST-MODIFIED:20260317T183108Z
UID:10000887-1773255600-1773259200@onaducoeur.avivecommunication.com
SUMMARY:Zumba
DESCRIPTION:Dans ce cours\, on oublie les efforts et on vibre sur les rythmes de la musique latino-américaine et des musiques du monde pour retrouver la forme! La Zumba® est un entraînement complet alliant tous les éléments de la remise en forme : cardio et préparation musculaire\, équilibre et flexibilité. Un regain d’énergie et un bien-être absolu après chaque session! Des exercices sans « contraintes »\, en mêlant des mouvements qui vous permettent de rester en forme et de garder la ligne dans un esprit festif. \nREQUIS : Espadrilles \nCOÛT : 70 $
URL:https://onaducoeur.avivecommunication.com/cours/zumba-6/2026-03-11/
LOCATION:École de Maricourt\, 3675\, rue Coderre\, St-Hubert\, Québec\, J3Y 4P4\, Canada
CATEGORIES:Zumba
ATTACH;FMTTYPE=image/png:https://onaducoeur.avivecommunication.com/wp-content/uploads/2026/01/GroupeOnaducoeur_zumba3.png
END:VEVENT
BEGIN:VEVENT
DTSTART;TZID=America/Toronto:20260304T190000
DTEND;TZID=America/Toronto:20260304T200000
DTSTAMP:20260421T054839
CREATED:20260125T141818Z
LAST-MODIFIED:20260317T183108Z
UID:10000886-1772650800-1772654400@onaducoeur.avivecommunication.com
SUMMARY:Zumba
DESCRIPTION:Dans ce cours\, on oublie les efforts et on vibre sur les rythmes de la musique latino-américaine et des musiques du monde pour retrouver la forme! La Zumba® est un entraînement complet alliant tous les éléments de la remise en forme : cardio et préparation musculaire\, équilibre et flexibilité. Un regain d’énergie et un bien-être absolu après chaque session! Des exercices sans « contraintes »\, en mêlant des mouvements qui vous permettent de rester en forme et de garder la ligne dans un esprit festif. \nREQUIS : Espadrilles \nCOÛT : 70 $
URL:https://onaducoeur.avivecommunication.com/cours/zumba-6/2026-03-04/
LOCATION:École de Maricourt\, 3675\, rue Coderre\, St-Hubert\, Québec\, J3Y 4P4\, Canada
CATEGORIES:Zumba
ATTACH;FMTTYPE=image/png:https://onaducoeur.avivecommunication.com/wp-content/uploads/2026/01/GroupeOnaducoeur_zumba3.png
END:VEVENT
BEGIN:VEVENT
DTSTART;TZID=America/Toronto:20260225T190000
DTEND;TZID=America/Toronto:20260225T200000
DTSTAMP:20260421T054839
CREATED:20260125T141818Z
LAST-MODIFIED:20260317T183108Z
UID:10000885-1772046000-1772049600@onaducoeur.avivecommunication.com
SUMMARY:Zumba
DESCRIPTION:Dans ce cours\, on oublie les efforts et on vibre sur les rythmes de la musique latino-américaine et des musiques du monde pour retrouver la forme! La Zumba® est un entraînement complet alliant tous les éléments de la remise en forme : cardio et préparation musculaire\, équilibre et flexibilité. Un regain d’énergie et un bien-être absolu après chaque session! Des exercices sans « contraintes »\, en mêlant des mouvements qui vous permettent de rester en forme et de garder la ligne dans un esprit festif. \nREQUIS : Espadrilles \nCOÛT : 70 $
URL:https://onaducoeur.avivecommunication.com/cours/zumba-6/2026-02-25/
LOCATION:École de Maricourt\, 3675\, rue Coderre\, St-Hubert\, Québec\, J3Y 4P4\, Canada
CATEGORIES:Zumba
ATTACH;FMTTYPE=image/png:https://onaducoeur.avivecommunication.com/wp-content/uploads/2026/01/GroupeOnaducoeur_zumba3.png
END:VEVENT
BEGIN:VEVENT
DTSTART;TZID=America/Toronto:20260218T190000
DTEND;TZID=America/Toronto:20260218T200000
DTSTAMP:20260421T054839
CREATED:20260125T141818Z
LAST-MODIFIED:20260317T183108Z
UID:10000884-1771441200-1771444800@onaducoeur.avivecommunication.com
SUMMARY:Zumba
DESCRIPTION:Dans ce cours\, on oublie les efforts et on vibre sur les rythmes de la musique latino-américaine et des musiques du monde pour retrouver la forme! La Zumba® est un entraînement complet alliant tous les éléments de la remise en forme : cardio et préparation musculaire\, équilibre et flexibilité. Un regain d’énergie et un bien-être absolu après chaque session! Des exercices sans « contraintes »\, en mêlant des mouvements qui vous permettent de rester en forme et de garder la ligne dans un esprit festif. \nREQUIS : Espadrilles \nCOÛT : 70 $
URL:https://onaducoeur.avivecommunication.com/cours/zumba-6/2026-02-18/
LOCATION:École de Maricourt\, 3675\, rue Coderre\, St-Hubert\, Québec\, J3Y 4P4\, Canada
CATEGORIES:Zumba
ATTACH;FMTTYPE=image/png:https://onaducoeur.avivecommunication.com/wp-content/uploads/2026/01/GroupeOnaducoeur_zumba3.png
END:VEVENT
BEGIN:VEVENT
DTSTART;TZID=America/Toronto:20260211T190000
DTEND;TZID=America/Toronto:20260211T200000
DTSTAMP:20260421T054839
CREATED:20260125T141818Z
LAST-MODIFIED:20260317T183108Z
UID:10000883-1770836400-1770840000@onaducoeur.avivecommunication.com
SUMMARY:Zumba
DESCRIPTION:Dans ce cours\, on oublie les efforts et on vibre sur les rythmes de la musique latino-américaine et des musiques du monde pour retrouver la forme! La Zumba® est un entraînement complet alliant tous les éléments de la remise en forme : cardio et préparation musculaire\, équilibre et flexibilité. Un regain d’énergie et un bien-être absolu après chaque session! Des exercices sans « contraintes »\, en mêlant des mouvements qui vous permettent de rester en forme et de garder la ligne dans un esprit festif. \nREQUIS : Espadrilles \nCOÛT : 70 $
URL:https://onaducoeur.avivecommunication.com/cours/zumba-6/2026-02-11/
LOCATION:École de Maricourt\, 3675\, rue Coderre\, St-Hubert\, Québec\, J3Y 4P4\, Canada
CATEGORIES:Zumba
ATTACH;FMTTYPE=image/png:https://onaducoeur.avivecommunication.com/wp-content/uploads/2026/01/GroupeOnaducoeur_zumba3.png
END:VEVENT
BEGIN:VEVENT
DTSTART;TZID=America/Toronto:20260204T190000
DTEND;TZID=America/Toronto:20260204T200000
DTSTAMP:20260421T054839
CREATED:20260125T141818Z
LAST-MODIFIED:20260317T183108Z
UID:10000882-1770231600-1770235200@onaducoeur.avivecommunication.com
SUMMARY:Zumba
DESCRIPTION:Dans ce cours\, on oublie les efforts et on vibre sur les rythmes de la musique latino-américaine et des musiques du monde pour retrouver la forme! La Zumba® est un entraînement complet alliant tous les éléments de la remise en forme : cardio et préparation musculaire\, équilibre et flexibilité. Un regain d’énergie et un bien-être absolu après chaque session! Des exercices sans « contraintes »\, en mêlant des mouvements qui vous permettent de rester en forme et de garder la ligne dans un esprit festif. \nREQUIS : Espadrilles \nCOÛT : 70 $
URL:https://onaducoeur.avivecommunication.com/cours/zumba-6/2026-02-04/
LOCATION:École de Maricourt\, 3675\, rue Coderre\, St-Hubert\, Québec\, J3Y 4P4\, Canada
CATEGORIES:Zumba
ATTACH;FMTTYPE=image/png:https://onaducoeur.avivecommunication.com/wp-content/uploads/2026/01/GroupeOnaducoeur_zumba3.png
END:VEVENT
BEGIN:VEVENT
DTSTART;TZID=America/Toronto:20260128T190000
DTEND;TZID=America/Toronto:20260128T200000
DTSTAMP:20260421T054839
CREATED:20260125T141818Z
LAST-MODIFIED:20260317T183108Z
UID:10000881-1769626800-1769630400@onaducoeur.avivecommunication.com
SUMMARY:Zumba
DESCRIPTION:Dans ce cours\, on oublie les efforts et on vibre sur les rythmes de la musique latino-américaine et des musiques du monde pour retrouver la forme! La Zumba® est un entraînement complet alliant tous les éléments de la remise en forme : cardio et préparation musculaire\, équilibre et flexibilité. Un regain d’énergie et un bien-être absolu après chaque session! Des exercices sans « contraintes »\, en mêlant des mouvements qui vous permettent de rester en forme et de garder la ligne dans un esprit festif. \nREQUIS : Espadrilles \nCOÛT : 70 $
URL:https://onaducoeur.avivecommunication.com/cours/zumba-6/2026-01-28/
LOCATION:École de Maricourt\, 3675\, rue Coderre\, St-Hubert\, Québec\, J3Y 4P4\, Canada
CATEGORIES:Zumba
ATTACH;FMTTYPE=image/png:https://onaducoeur.avivecommunication.com/wp-content/uploads/2026/01/GroupeOnaducoeur_zumba3.png
END:VEVENT
BEGIN:VEVENT
DTSTART;TZID=America/Toronto:20260121T190000
DTEND;TZID=America/Toronto:20260121T200000
DTSTAMP:20260421T054839
CREATED:20260125T141818Z
LAST-MODIFIED:20260317T183108Z
UID:10000880-1769022000-1769025600@onaducoeur.avivecommunication.com
SUMMARY:Zumba
DESCRIPTION:Dans ce cours\, on oublie les efforts et on vibre sur les rythmes de la musique latino-américaine et des musiques du monde pour retrouver la forme! La Zumba® est un entraînement complet alliant tous les éléments de la remise en forme : cardio et préparation musculaire\, équilibre et flexibilité. Un regain d’énergie et un bien-être absolu après chaque session! Des exercices sans « contraintes »\, en mêlant des mouvements qui vous permettent de rester en forme et de garder la ligne dans un esprit festif. \nREQUIS : Espadrilles \nCOÛT : 70 $
URL:https://onaducoeur.avivecommunication.com/cours/zumba-6/2026-01-21/
LOCATION:École de Maricourt\, 3675\, rue Coderre\, St-Hubert\, Québec\, J3Y 4P4\, Canada
CATEGORIES:Zumba
ATTACH;FMTTYPE=image/png:https://onaducoeur.avivecommunication.com/wp-content/uploads/2026/01/GroupeOnaducoeur_zumba3.png
END:VEVENT
BEGIN:VEVENT
DTSTART;TZID=America/Toronto:20260114T190000
DTEND;TZID=America/Toronto:20260114T200000
DTSTAMP:20260421T054839
CREATED:20260125T141818Z
LAST-MODIFIED:20260317T183108Z
UID:10000018-1768417200-1768420800@onaducoeur.avivecommunication.com
SUMMARY:Zumba
DESCRIPTION:Dans ce cours\, on oublie les efforts et on vibre sur les rythmes de la musique latino-américaine et des musiques du monde pour retrouver la forme! La Zumba® est un entraînement complet alliant tous les éléments de la remise en forme : cardio et préparation musculaire\, équilibre et flexibilité. Un regain d’énergie et un bien-être absolu après chaque session! Des exercices sans « contraintes »\, en mêlant des mouvements qui vous permettent de rester en forme et de garder la ligne dans un esprit festif. \nREQUIS : Espadrilles \nCOÛT : 70 $
URL:https://onaducoeur.avivecommunication.com/cours/zumba-6/2026-01-14/
LOCATION:École de Maricourt\, 3675\, rue Coderre\, St-Hubert\, Québec\, J3Y 4P4\, Canada
CATEGORIES:Zumba
ATTACH;FMTTYPE=image/png:https://onaducoeur.avivecommunication.com/wp-content/uploads/2026/01/GroupeOnaducoeur_zumba3.png
END:VEVENT
END:VCALENDAR